Workbook
Name MonthBegin: [1]General!$B$17

Sheet Detailed Pro Forma
A1: Property # | B1: 1
A2: Street | B2: =HLOOKUP(B$1,$C$64:$L$92,2) -> 195 Belmont St
A3: Purchase Price + Renovation Cost | B3: =HLOOKUP(B$1,$C$64:$L$92,3)+HLOOKUP(B$1,$C$64:$L$92,4) -> 630000
A4: ="Assumed Sales Price (end of year "&TEXT(B8,"0")&")" -> Assumed Sales Price (end of year 10) | B4: =B3*(1+B5)^B8 -> 767966.48
A5: Assumed Annual Appreciation | B5: =HLOOKUP(B$1,$C$64:$L$99,33) -> 0.02
A6: Assumed Annual Rent Growth | B6: =HLOOKUP(B$1,$C$64:$L$99,34) -> 0.015
A7: Assumed Annual Cost Growth | B7: =HLOOKUP(B$1,$C$64:$L$99,35) -> 0.015
A8: Year of Sale | B8: =HLOOKUP(B$1,$C$64:$L$99,36) -> 10 | C8: (max 10 years)
A10: Year # | B10: 0 | C10: =IF($B8<1,"",1) -> 1 | D10: =IF($B8<D62,"",D62) -> 2 | E10: =IF($B8<E62,"",E62) -> 3 | F10: =IF($B8<F62,"",F62) -> 4 | G10: =IF($B8<G62,"",G62) -> 5 | H10: =IF($B8<H62,"",H62) -> 6 | I10: =IF($B8<I62,"",I62) -> 7 | J10: =IF($B8<J62,"",J62) -> 8 | K10: =IF($B8<K62,"",K62) -> 9 | L10: =IF($B8<L62,"",L62) -> 10
A11: Income | B11: 0 | C11: =HLOOKUP(B$1,$C$64:$L$92,8) -> 50160 | D11: =IF($B8<D62,"",C11*(1+$B6)) -> 50912.4 | E11: =IF($B8<E62,"",D11*(1+$B6)) -> 51676.086 | F11: =IF($B8<F62,"",E11*(1+$B6)) -> 52451.227 | G11: =IF($B8<G62,"",F11*(1+$B6)) -> 53237.996 | H11: =IF($B8<H62,"",G11*(1+$B6)) -> 54036.566 | I11: =IF($B8<I62,"",H11*(1+$B6)) -> 54847.114 | J11: =IF($B8<J62,"",I11*(1+$B6)) -> 55669.821 | K11: =IF($B8<K62,"",J11*(1+$B6)) -> 56504.868 | L11: =IF($B8<L62,"",K11*(1+$B6)) -> 57352.441
A12: Expenses
A13: Management Company | B13: 0 | C13: =HLOOKUP(B$1,$C$64:$L$92,16)*12 -> 0 | D13: =IF($B$8<D$62,"",C13*(1+$B$7)) -> 0 | E13: =IF($B$8<E$62,"",D13*(1+$B$7)) -> 0 | F13: =IF($B$8<F$62,"",E13*(1+$B$7)) -> 0 | G13: =IF($B$8<G$62,"",F13*(1+$B$7)) -> 0 | H13: =IF($B$8<H$62,"",G13*(1+$B$7)) -> 0 | I13: =IF($B$8<I$62,"",H13*(1+$B$7)) -> 0 | J13: =IF($B$8<J$62,"",I13*(1+$B$7)) -> 0 | K13: =IF($B$8<K$62,"",J13*(1+$B$7)) -> 0 | L13: =IF($B$8<L$62,"",K13*(1+$B$7)) -> 0
A14: Tenant Finder Fee | B14: 0 | C14: =HLOOKUP(B$1,$C$64:$L$92,17)*12 -> 5016 | D14: =IF($B$8<D$62,"",C14*(1+$B$7)) -> 5091.24 | E14: =IF($B$8<E$62,"",D14*(1+$B$7)) -> 5167.6086 | F14: =IF($B$8<F$62,"",E14*(1+$B$7)) -> 5245.1227 | G14: =IF($B$8<G$62,"",F14*(1+$B$7)) -> 5323.7996 | H14: =IF($B$8<H$62,"",G14*(1+$B$7)) -> 5403.6566 | I14: =IF($B$8<I$62,"",H14*(1+$B$7)) -> 5484.7114 | J14: =IF($B$8<J$62,"",I14*(1+$B$7)) -> 5566.9821 | K14: =IF($B$8<K$62,"",J14*(1+$B$7)) -> 5650.4868 | L14: =IF($B$8<L$62,"",K14*(1+$B$7)) -> 5735.2441
A15: Water | B15: 0 | C15: =HLOOKUP(B$1,$C$64:$L$92,18)*12 -> 2191.2 | D15: =IF($B$8<D$62,"",C15*(1+$B$7)) -> 2224.068 | E15: =IF($B$8<E$62,"",D15*(1+$B$7)) -> 2257.429 | F15: =IF($B$8<F$62,"",E15*(1+$B$7)) -> 2291.2905 | G15: =IF($B$8<G$62,"",F15*(1+$B$7)) -> 2325.6598 | H15: =IF($B$8<H$62,"",G15*(1+$B$7)) -> 2360.5447 | I15: =IF($B$8<I$62,"",H15*(1+$B$7)) -> 2395.9529 | J15: =IF($B$8<J$62,"",I15*(1+$B$7)) -> 2431.8922 | K15: =IF($B$8<K$62,"",J15*(1+$B$7)) -> 2468.3706 | L15: =IF($B$8<L$62,"",K15*(1+$B$7)) -> 2505.3961
A16: Sewer | B16: 0 | C16: =HLOOKUP(B$1,$C$64:$L$92,19)*12 -> 1140 | D16: =IF($B$8<D$62,"",C16*(1+$B$7)) -> 1157.1 | E16: =IF($B$8<E$62,"",D16*(1+$B$7)) -> 1174.4565 | F16: =IF($B$8<F$62,"",E16*(1+$B$7)) -> 1192.0733 | G16: =IF($B$8<G$62,"",F16*(1+$B$7)) -> 1209.9544 | H16: =IF($B$8<H$62,"",G16*(1+$B$7)) -> 1228.1038 | I16: =IF($B$8<I$62,"",H16*(1+$B$7)) -> 1246.5253 | J16: =IF($B$8<J$62,"",I16*(1+$B$7)) -> 1265.2232 | K16: =IF($B$8<K$62,"",J16*(1+$B$7)) -> 1284.2015 | L16: =IF($B$8<L$62,"",K16*(1+$B$7)) -> 1303.4646
A17: Electric | B17: 0 | C17: =HLOOKUP(B$1,$C$64:$L$92,20)*12 -> 0 | D17: =IF($B$8<D$62,"",C17*(1+$B$7)) -> 0 | E17: =IF($B$8<E$62,"",D17*(1+$B$7)) -> 0 | F17: =IF($B$8<F$62,"",E17*(1+$B$7)) -> 0 | G17: =IF($B$8<G$62,"",F17*(1+$B$7)) -> 0 | H17: =IF($B$8<H$62,"",G17*(1+$B$7)) -> 0 | I17: =IF($B$8<I$62,"",H17*(1+$B$7)) -> 0 | J17: =IF($B$8<J$62,"",I17*(1+$B$7)) -> 0 | K17: =IF($B$8<K$62,"",J17*(1+$B$7)) -> 0 | L17: =IF($B$8<L$62,"",K17*(1+$B$7)) -> 0
A18: Gas | B18: 0 | C18: =HLOOKUP(B$1,$C$64:$L$92,21)*12 -> 182.4 | D18: =IF($B$8<D$62,"",C18*(1+$B$7)) -> 185.136 | E18: =IF($B$8<E$62,"",D18*(1+$B$7)) -> 187.91304 | F18: =IF($B$8<F$62,"",E18*(1+$B$7)) -> 190.73174 | G18: =IF($B$8<G$62,"",F18*(1+$B$7)) -> 193.59271 | H18: =IF($B$8<H$62,"",G18*(1+$B$7)) -> 196.4966 | I18: =IF($B$8<I$62,"",H18*(1+$B$7)) -> 199.44405 | J18: =IF($B$8<J$62,"",I18*(1+$B$7)) -> 202.43571 | K18: =IF($B$8<K$62,"",J18*(1+$B$7)) -> 205.47225 | L18: =IF($B$8<L$62,"",K18*(1+$B$7)) -> 208.55433
A19: Other Utilities | B19: 0 | C19: =HLOOKUP(B$1,$C$64:$L$92,22)*12 -> 0 | D19: =IF($B$8<D$62,"",C19*(1+$B$7)) -> 0 | E19: =IF($B$8<E$62,"",D19*(1+$B$7)) -> 0 | F19: =IF($B$8<F$62,"",E19*(1+$B$7)) -> 0 | G19: =IF($B$8<G$62,"",F19*(1+$B$7)) -> 0 | H19: =IF($B$8<H$62,"",G19*(1+$B$7)) -> 0 | I19: =IF($B$8<I$62,"",H19*(1+$B$7)) -> 0 | J19: =IF($B$8<J$62,"",I19*(1+$B$7)) -> 0 | K19: =IF($B$8<K$62,"",J19*(1+$B$7)) -> 0 | L19: =IF($B$8<L$62,"",K19*(1+$B$7)) -> 0
A20: Maintenance Allowance | B20: 0 | C20: =HLOOKUP(B$1,$C$64:$L$92,23)*12 -> 0 | D20: =IF($B$8<D$62,"",C20*(1+$B$7)) -> 0 | E20: =IF($B$8<E$62,"",D20*(1+$B$7)) -> 0 | F20: =IF($B$8<F$62,"",E20*(1+$B$7)) -> 0 | G20: =IF($B$8<G$62,"",F20*(1+$B$7)) -> 0 | H20: =IF($B$8<H$62,"",G20*(1+$B$7)) -> 0 | I20: =IF($B$8<I$62,"",H20*(1+$B$7)) -> 0 | J20: =IF($B$8<J$62,"",I20*(1+$B$7)) -> 0 | K20: =IF($B$8<K$62,"",J20*(1+$B$7)) -> 0 | L20: =IF($B$8<L$62,"",K20*(1+$B$7)) -> 0
A21: Mortgage | B21: 0 | C21: =HLOOKUP(B$1,$C$64:$L$92,24)*12 -> 4725 | D21: =IF($B$8<D$62,"",C21*(1+$B$7)) -> 4795.875 | E21: =IF($B$8<E$62,"",D21*(1+$B$7)) -> 4867.8131 | F21: =IF($B$8<F$62,"",E21*(1+$B$7)) -> 4940.8303 | G21: =IF($B$8<G$62,"",F21*(1+$B$7)) -> 5014.9428 | H21: =IF($B$8<H$62,"",G21*(1+$B$7)) -> 5090.1669 | I21: =IF($B$8<I$62,"",H21*(1+$B$7)) -> 5166.5194 | J21: =IF($B$8<J$62,"",I21*(1+$B$7)) -> 5244.0172 | K21: =IF($B$8<K$62,"",J21*(1+$B$7)) -> 5322.6775 | L21: =IF($B$8<L$62,"",K21*(1+$B$7)) -> 5402.5176
A22: Insurance | B22: 0 | C22: =HLOOKUP(B$1,$C$64:$L$92,25)*12 -> 25498.56 | D22: =IF($B$8<D$62,"",C22*(1+$B$7)) -> 25881.038 | E22: =IF($B$8<E$62,"",D22*(1+$B$7)) -> 26269.254 | F22: =IF($B$8<F$62,"",E22*(1+$B$7)) -> 26663.293 | G22: =IF($B$8<G$62,"",F22*(1+$B$7)) -> 27063.242 | H22: =IF($B$8<H$62,"",G22*(1+$B$7)) -> 27469.191 | I22: =IF($B$8<I$62,"",H22*(1+$B$7)) -> 27881.229 | J22: =IF($B$8<J$62,"",I22*(1+$B$7)) -> 28299.447 | K22: =IF($B$8<K$62,"",J22*(1+$B$7)) -> 28723.939 | L22: =IF($B$8<L$62,"",K22*(1+$B$7)) -> 29154.798
A23: Fire Tax | B23: 0 | C23: =HLOOKUP(B$1,$C$64:$L$92,26)*12 -> 3999.96 | D23: =IF($B$8<D$62,"",C23*(1+$B$7)) -> 4059.9594 | E23: =IF($B$8<E$62,"",D23*(1+$B$7)) -> 4120.8588 | F23: =IF($B$8<F$62,"",E23*(1+$B$7)) -> 4182.6717 | G23: =IF($B$8<G$62,"",F23*(1+$B$7)) -> 4245.4117 | H23: =IF($B$8<H$62,"",G23*(1+$B$7)) -> 4309.0929 | I23: =IF($B$8<I$62,"",H23*(1+$B$7)) -> 4373.7293 | J23: =IF($B$8<J$62,"",I23*(1+$B$7)) -> 4439.3353 | K23: =IF($B$8<K$62,"",J23*(1+$B$7)) -> 4505.9253 | L23: =IF($B$8<L$62,"",K23*(1+$B$7)) -> 4573.5142
A24: Real Estate Taxes | B24: 0 | C24: =HLOOKUP(B$1,$C$64:$L$92,27)*12 -> 0 | D24: =IF($B$8<D$62,"",C24*(1+$B$7)) -> 0 | E24: =IF($B$8<E$62,"",D24*(1+$B$7)) -> 0 | F24: =IF($B$8<F$62,"",E24*(1+$B$7)) -> 0 | G24: =IF($B$8<G$62,"",F24*(1+$B$7)) -> 0 | H24: =IF($B$8<H$62,"",G24*(1+$B$7)) -> 0 | I24: =IF($B$8<I$62,"",H24*(1+$B$7)) -> 0 | J24: =IF($B$8<J$62,"",I24*(1+$B$7)) -> 0 | K24: =IF($B$8<K$62,"",J24*(1+$B$7)) -> 0 | L24: =IF($B$8<L$62,"",K24*(1+$B$7)) -> 0
A26: Net Income | B26: 0 | C26: =C11-SUM(C13:C25) -> 7406.88 | D26: =IF($B8<D62,"",D11-SUM(D13:D25)) -> 7517.9832 | E26: =IF($B8<E62,"",E11-SUM(E13:E25)) -> 7630.7529 | F26: =IF($B8<F62,"",F11-SUM(F13:F25)) -> 7745.2142 | G26: =IF($B8<G62,"",G11-SUM(G13:G25)) -> 7861.3925 | H26: =IF($B8<H62,"",H11-SUM(H13:H25)) -> 7979.3133 | I26: =IF($B8<I62,"",I11-SUM(I13:I25)) -> 8099.003 | J26: =IF($B8<J62,"",J11-SUM(J13:J25)) -> 8220.4881 | K26: =IF($B8<K62,"",K11-SUM(K13:K25)) -> 8343.7954 | L26: =IF($B8<L62,"",L11-SUM(L13:L25)) -> 8468.9523
A28: Initial Costs | B28: =HLOOKUP(B$1,$C$64:$L$94,31) -> 134625
A29: Sales Proceeds | C29: =IF($B8=C62,$B4,"") | D29: =IF($B8=D62,$B4,"") | E29: =IF($B8=E62,$B4,"") | F29: =IF($B8=F62,$B4,"") | G29: =IF($B8=G62,$B4,"") | H29: =IF($B8=H62,$B4,"") | I29: =IF($B8=I62,$B4,"") | J29: =IF($B8=J62,$B4,"") | ... L29: =IF($B8=L62,$B4,"") -> 767966.48
A30: Realtor Fee (6%) | C30: =IF($B8=C62,0.06*C29,"") | D30: =IF($B8=D62,0.06*D29,"") | E30: =IF($B8=E62,0.06*E29,"") | F30: =IF($B8=F62,0.06*F29,"") | G30: =IF($B8=G62,0.06*G29,"") | H30: =IF($B8=H62,0.06*H29,"") | I30: =IF($B8=I62,0.06*I29,"") | J30: =IF($B8=J62,0.06*J29,"") | ... L30: =IF($B8=L62,0.06*L29,"") -> 46077.989
A31: Debt Payoff | C31: =IF($B8=C62,$B102+CUMPRINC($B100/12,$B101*12,$B102,1,C62*12,0),"") | D31: =IF($B8=D62,$B102+CUMPRINC($B100/12,$B101*12,$B102,1,D62*12,0),"") | E31: =IF($B8=E62,$B102+CUMPRINC($B100/12,$B101*12,$B102,1,E62*12,0),"") | F31: =IF($B8=F62,$B102+CUMPRINC($B100/12,$B101*12,$B102,1,F62*12,0),"") | G31: =IF($B8=G62,$B102+CUMPRINC($B100/12,$B101*12,$B102,1,G62*12,0),"") | H31: =IF($B8=H62,$B102+CUMPRINC($B100/12,$B101*12,$B102,1,H62*12,0),"") | I31: =IF($B8=I62,$B102+CUMPRINC($B100/12,$B101*12,$B102,1,I62*12,0),"") | J31: =IF($B8=J62,$B102+CUMPRINC($B100/12,$B101*12,$B102,1,J62*12,0),"") | ... L31: =IF($B8=L62,$B102+CUMPRINC($B100/12,$B101*12,$B102,1,L62*12,0),"") -> 383139.84
A32: Cash Flow | B32: =-B28 -> -134625 | C32: =C26 -> 7406.88 | D32: =IF($B8=D62,D26+D29-D30-D31,D26) -> 7517.9832 | E32: =IF($B8=E62,E26+E29-E30-E31,E26) -> 7630.7529 | F32: =IF($B8=F62,F26+F29-F30-F31,F26) -> 7745.2142 | G32: =IF($B8=G62,G26+G29-G30-G31,G26) -> 7861.3925 | H32: =IF($B8=H62,H26+H29-H30-H31,H26) -> 7979.3133 | I32: =IF($B8=I62,I26+I29-I30-I31,I26) -> 8099.003 | J32: =IF($B8=J62,J26+J29-J30-J31,J26) -> 8220.4881 | K32: =IF($B8=K62,K26+K29-K30-K31,K26) -> 8343.7954 | L32: =IF($B8=L62,L26+L29-L30-L31,L26) -> 347217.61
A33: Cumulative Cash Flow | B33: =B32 -> -134625 | C33: =B33+C32 -> -127218.12 | D33: =IF($B8<D62,"",C33+D32) -> -119700.14 | E33: =IF($B8<E62,"",D33+E32) -> -112069.38 | F33: =IF($B8<F62,"",E33+F32) -> -104324.17 | G33: =IF($B8<G62,"",F33+G32) -> -96462.777 | H33: =IF($B8<H62,"",G33+H32) -> -88483.464 | I33: =IF($B8<I62,"",H33+I32) -> -80384.461 | J33: =IF($B8<J62,"",I33+J32) -> -72163.973 | K33: =IF($B8<K62,"",J33+K32) -> -63820.177 | L33: =IF($B8<L62,"",K33+L32) -> 283397.43
A34: Total ROI | B34: =IF($B8=B62,B33/$B28,"") | C34: =IF($B8=C62,C33/$B28,"") | D34: =IF($B8=D62,D33/$B28,"") | E34: =IF($B8=E62,E33/$B28,"") | F34: =IF($B8=F62,F33/$B28,"") | G34: =IF($B8=G62,G33/$B28,"") | H34: =IF($B8=H62,H33/$B28,"") | I34: =IF($B8=I62,I33/$B28,"") | ... L34: =IF($B8=L62,L33/$B28,"") -> 2.1050877
A35: Annualized ROI | C35: =IF($B8=C62,((C33+$B28)/$B28)^(1/C62)-1,"") | D35: =IF($B8=D62,((D33+$B28)/$B28)^(1/D62)-1,"") | E35: =IF($B8=E62,((E33+$B28)/$B28)^(1/E62)-1,"") | F35: =IF($B8=F62,((F33+$B28)/$B28)^(1/F62)-1,"") | G35: =IF($B8=G62,((G33+$B28)/$B28)^(1/G62)-1,"") | H35: =IF($B8=H62,((H33+$B28)/$B28)^(1/H62)-1,"") | I35: =IF($B8=I62,((I33+$B28)/$B28)^(1/I62)-1,"") | J35: =IF($B8=J62,((J33+$B28)/$B28)^(1/J62)-1,"") | ... L35: =IF($B8=L62,((L33+$B28)/$B28)^(1/L62)-1,"") -> 0.11997257
A62: Year Reference | C62: 1 | D62: 2 | E62: 3 | F62: 4 | G62: 5 | H62: 6 | I62: 7 | J62: 8 | K62: 9 | L62: 10
A64: Property # | C64: 1 | D64: 2 | E64: 3 | F64: 4 | G64: 5 | H64: 6 | I64: 7 | J64: 8 | K64: 9 | L64: 10
A65: Street | C65: ='Property 1'!$B1 -> 195 Belmont St | D65: ='Property 2'!$B1 -> 50 Bracewell | E65: ='Property 3'!$B1 -> 0 | F65: ='Property 4'!$B1 -> 0 | G65: ='Property 5'!$B1 -> 0 | H65: ='Property 6'!$B1 -> 0 | I65: ='Property 7'!$B1 -> 0 | J65: ='Property 8'!$B1 -> 0 | K65: ='Property 9'!$B1 -> 0 | L65: ='Property 10'!$B1 -> 0
A66: Purchase Price | C66: ='Property 1'!$B13 -> 630000 | D66: ='Property 2'!$B13 -> 15000 | E66: ='Property 3'!$B13 -> 0 | F66: ='Property 4'!$B13 -> 140000 | G66: ='Property 5'!$B13 -> 229900 | H66: ='Property 6'!$B13 -> 305000 | I66: ='Property 7'!$B13 -> 130000 | J66: ='Property 8'!$B13 -> 140000 | K66: ='Property 9'!$B13 -> 0 | L66: ='Property 10'!$B13 -> 150000
A67: Renovation Costs | C67: ='Property 1'!$B12 -> 0 | D67: ='Property 2'!$B12 -> 80000 | E67: ='Property 3'!$B12 -> 0 | F67: ='Property 4'!$B12 -> 0 | G67: ='Property 5'!$B12 -> 0 | H67: ='Property 6'!$B12 -> 0 | I67: ='Property 7'!$B12 -> 0 | J67: ='Property 8'!$B12 -> 10000 | K67: ='Property 9'!$B12 -> 0 | L67: ='Property 10'!$B12 -> 40000
A68: Number of Units | C68: ='Property 1'!$B14 -> 4 | D68: ='Property 2'!$B14 -> 3 | E68: ='Property 3'!$B14 -> 0 | F68: ='Property 4'!$B14 -> 4 | G68: ='Property 5'!$B14 -> 4 | H68: ='Property 6'!$B14 -> 5 | I68: ='Property 7'!$B14 -> 2 | J68: ='Property 8'!$B14 -> 6 | K68: ='Property 9'!$B14 -> 8 | L68: ='Property 10'!$B14 -> 2
A69: Rent Per Month | C69: ='Property 1'!$B15 -> 4400 | D69: ='Property 2'!$B15 -> 2350 | E69: ='Property 3'!$B15 -> 5425 | F69: ='Property 4'!$B15 -> 2700 | G69: ='Property 5'!$B15 -> 0 | H69: ='Property 6'!$B15 -> 4050 | I69: ='Property 7'!$B15 -> 1350 | J69: ='Property 8'!$B15 -> 3900 | K69: ='Property 9'!$B15 -> 0 | L69: ='Property 10'!$B15 -> 2800
A70: Annual Rent no Vacancy | C70: ='Property 1'!$B16 -> 52800 | D70: ='Property 2'!$B16 -> 28200 | E70: ='Property 3'!$B16 -> 65100 | F70: ='Property 4'!$B16 -> 32400 | G70: ='Property 5'!$B16 -> 0 | H70: ='Property 6'!$B16 -> 48600 | I70: ='Property 7'!$B16 -> 16200 | J70: ='Property 8'!$B16 -> 46800 | K70: ='Property 9'!$B16 -> 0 | L70: ='Property 10'!$B16 -> 33600
...

Sheet Property 1
A1: Street | B1: 195 Belmont St | D1: Mortgage Calculator | H1: Ratio Analysis
A2: City | B2: Manchester, NH | D2: Principle | F2: =B4*(B13+B12) -> 504000 | H2: Debt Coverage | J2: =IF(B4=0,"N/A",(B17/12-B33+B28)/B28) -> 0.97673751 | K2: first mtg only
A3: Buyer's Realtor Fee | B3: 0 | D3: Term (years) | F3: 30 | H3: Cap Rate | J3: =(((B17/12)-SUM(B20:B27)-SUM(B30:B32))*12)/(B12+B13) -> 0.039532381
A4: LTV | B4: 0.8 | D4: Annual Interest Rate | F4: 0.03 | H4: Cash on Cash Return (Velocity) | J4: =(12*B34)/J6 -> -0.0044060167
A5: Period to be Owned (yrs) | B5: 10 | D5: Closing Points | F5: 0 | H5: Debt/Equity Ratio | J5: =(F2+CUMPRINC(F4/12,F3*12,F2,1,L5*12,0))/(B13*(1+B7)^L5) -> 0.49890177 | K5: end of year | L5: =B5 -> 10 | Q5: =ROUND((P7*B14*(1-B6))-(MAX(ROUND(C20*(P7*B14*(1-B6)),2),300)+ROUND(P7*B14*C21/E21,2)+(C22*B14/12)*(1-B6)+(C23*B14/12)*(1-B6)+(C24*B14)*(1-B6)+(C25*B14)*(1-B6)+C26*B14+F28/12-ROUND(PMT(F4/12,F3*12,B4*P6),2)+ROUND(C30/12,2)+ROUND(C31/12,2)+ROUND(C32/12,2)),0) -> -116 | R5: =B15/B14*0.5 -> 550 | S5: =R5+100 -> 650 | T5: =S5+100 -> 750 | U5: =T5+100 -> 850 | V5: =U5+100 -> 950 | W5: =V5+100 -> 1050 | X5: =W5+100 -> 1150 | AA5: =R5 -> 550 | AB5: =S5 -> 650 | AC5: =T5 -> 750 | AD5: =U5 -> 850 | AE5: =V5 -> 950 | AF5: =W5 -> 1050 | AG5: =X5 -> 1150
A6: Assumed Vacancy Rate | B6: 0.05 | D6: Other Closing Costs | F6: =SUM(J20:J33) -> 8625 | H6: Cash needed at Closing | J6: =(B12+B13)-F2+F6+F5*F2-F9 -> 134625 | P6: 200000 | Q6: =ROUND(0.8*B11,-3) -> 504000 | R6: -1505 | S6: -1142 | T6: -778 | U6: -438 | V6: -113 | W6: 213 | X6: 538 | Z6: =Q6/1000 -> 504 | AA6: =R6 -> -1505 | AB6: =S6 -> -1142 | AC6: =T6 -> -778 | AD6: =U6 -> -438 | AE6: =V6 -> -113 | AF6: =W6 -> 213 | AG6: =X6 -> 538
A7: Assumed Annual Appreciation | B7: 0.02 | P7: 650 | Q7: =Q6+10000 -> 514000 | R7: -1539 | S7: -1175 | T7: -812 | U7: -472 | V7: -146 | W7: 179 | X7: 505 | Z7: =Q7/1000 -> 514 | AA7: =R7 -> -1539 | AB7: =S7 -> -1175 | AC7: =T7 -> -812 | AD7: =U7 -> -472 | AE7: =V7 -> -146 | AF7: =W7 -> 179 | AG7: =X7 -> 505
A8: Assumed Annual Rent Growth | B8: 0.015 | D8: Second Mortgage Calculator | Q8: =Q7+10000 -> 524000 | R8: -1573 | S8: -1209 | T8: -846 | U8: -505 | V8: -180 | W8: 145 | X8: 471 | Z8: =Q8/1000 -> 524 | AA8: =R8 -> -1573 | AB8: =S8 -> -1209 | AC8: =T8 -> -846 | AD8: =U8 -> -505 | AE8: =V8 -> -180 | AF8: =W8 -> 145 | AG8: =X8 -> 471
A9: Assumed Annual Cost Growth | B9: 0.015 | D9: Principle | F9: 0 | Q9: =Q8+10000 -> 534000 | R9: -1606 | S9: -1243 | T9: -880 | U9: -539 | V9: -214 | W9: 112 | X9: 437 | Z9: =Q9/1000 -> 534 | AA9: =R9 -> -1606 | AB9: =S9 -> -1243 | AC9: =T9 -> -880 | AD9: =U9 -> -539 | AE9: =V9 -> -214 | AF9: =W9 -> 112 | AG9: =X9 -> 437
D10: Term (years) | F10: 10 | Q10: =Q9+10000 -> 544000 | R10: -1640 | S10: -1277 | T10: -913 | U10: -573 | V10: -247 | W10: 78 | X10: 403 | Z10: =Q10/1000 -> 544 | AA10: =R10 -> -1640 | AB10: =S10 -> -1277 | AC10: =T10 -> -913 | AD10: =U10 -> -573 | AE10: =V10 -> -247 | AF10: =W10 -> 78 | AG10: =X10 -> 403
A11: Asking Price | B11: 629900 | D11: Annual Interest Rate | F11: 0.1 | Q11: =Q10+10000 -> 554000 | R11: -1674 | S11: -1310 | T11: -947 | U11: -607 | V11: -281 | W11: 44 | X11: 370 | Z11: =Q11/1000 -> 554 | AA11: =R11 -> -1674 | AB11: =S11 -> -1310 | AC11: =T11 -> -947 | AD11: =U11 -> -607 | AE11: =V11 -> -281 | AF11: =W11 -> 44 | AG11: =X11 -> 370
A12: Renovation Cost | D12: Closing Points | F12: 0 | Q12: =Q11+10000 -> 564000 | R12: -1708 | S12: -1344 | T12: -981 | U12: -640 | V12: -315 | W12: 10 | X12: 336 | Z12: =Q12/1000 -> 564 | AA12: =R12 -> -1708 | AB12: =S12 -> -1344 | AC12: =T12 -> -981 | AD12: =U12 -> -640 | AE12: =V12 -> -315 | AF12: =W12 -> 10 | AG12: =X12 -> 336
A13: Purchase Price/Value | B13: 630000 | D13: Other Closing Costs | F13: 0 | Q13: =Q12+10000 -> 574000 | R13: -1741 | S13: -1378 | T13: -1014 | U13: -674 | V13: -349 | W13: -23 | X13: 302 | Z13: =Q13/1000 -> 574 | AA13: =R13 -> -1741 | AB13: =S13 -> -1378 | AC13: =T13 -> -1014 | AD13: =U13 -> -674 | AE13: =V13 -> -349 | AF13: =W13 -> -23 | AG13: =X13 -> 302
A14: Number of Units | B14: 4 | C14: =IF(COUNT(M23:M122)=B14,IF(B15<B14*L19,"Total Rent Seems Low - Check Assumptions",""),"Enter Rent For All Units") | Q14: =Q13+10000 -> 584000 | R14: -1775 | S14: -1412 | T14: -1048 | U14: -708 | V14: -382 | W14: -57 | X14: 268 | Z14: =Q14/1000 -> 584 | AA14: =R14 -> -1775 | AB14: =S14 -> -1412 | AC14: =T14 -> -1048 | AD14: =U14 -> -708 | AE14: =V14 -> -382 | AF14: =W14 -> -57 | AG14: =X14 -> 268
A15: Total Rent per Month | B15: =L21 -> 4400 | Q15: =Q14+10000 -> 594000 | R15: -1809 | S15: -1445 | T15: -1082 | U15: -742 | V15: -416 | W15: -91 | X15: 235 | Z15: =Q15/1000 -> 594 | AA15: =R15 -> -1809 | AB15: =S15 -> -1445 | AC15: =T15 -> -1082 | AD15: =U15 -> -742 | AE15: =V15 -> -416 | AF15: =W15 -> -91 | AG15: =X15 -> 235
A16: Annual Revenue (0% vacancy) | B16: =B15*12 -> 52800
A17: ="Annual Revenue ("&TEXT(B6,"0%")&" vacancy)" -> Annual Revenue (5% vacancy) | B17: =B16*(1-B6) -> 50160
A19: Monthly Operating Expenses | I19: Closing & Other Costs | L19: 750 | M19: = Expected Average Minimum Rent
A20: Management Company | B20: =MAX(ROUND(C20*(B17/12),2),E20) -> 418 | C20: 0.1 | D20: management fee | E20: 200 | F20: = Minimum monthly fee' | I20: Attorney | J20: 750
A21: Tenant Finder Fee | B21: =ROUND(B15*C21/E21,2) -> 182.6 | C21: 0.083 | D21: one time fee | E21: 2 | F21: years tenancy assumed | I21: Inspection | J21: 500 | L21: =SUM(M23:M122) -> 4400 | M21: = Total Rental Income
A22: Water | B22: =(C22*B14/12)*(1-B6) -> 95 | C22: 300 | D22: cost per unit per year | H22: Tax Stamp Rate | I22: Appraisal | J22: 500 | L22: Unit # | M22: Rent/Month
A23: Sewer | B23: =(C23*B14/12)*(1-B6) -> 0 | C23: 0 | D23: cost per unit per year | H23: 0.0075 | I23: Tax Stamps | J23: =ROUND(H23*B13, 0) -> 4725 | L23: 1 | M23: 1100
A24: Electric | B24: =(C24*B14)*(1-B6) -> 15.2 | C24: 4 | D24: cost per unit per month | I24: Title Insurance | J24: 1000 | L24: =L23+1 -> 2 | M24: 1100
A25: Gas | B25: =(C25*B14)*(1-B6) -> 0 | C25: 0 | D25: cost per unit per month | I25: Title Closing | J25: 1000 | L25: =L24+1 -> 3 | M25: 1100
A26: Other Utilities | B26: =C26*B14 -> 0 | C26: 0 | D26: cost per unit per month | I26: Title Doc Prep | J26: 100 | L26: =L25+1 -> 4 | M26: 1100
A27: Maintenance Allowance | B27: =F28/12 -> 393.75 | C27: =F27*B13/B14 -> 1181.25 | D27: cost per unit per year | F27: 0.0075 | G27: of purchase price | I27: Recording Fees | J27: 50 | L27: =L26+1 -> 5
A28: Mortgage (monthly) | B28: =-ROUND(PMT(F4/12,F3*12,F2),2) -> 2124.88 | F28: =F27*B13 -> 4725 | G28: total per year | I28: Bank Fees | J28: 0 | L28: =L27+1 -> 6
A29: Second Mortgage (monthly) | B29: =-ROUND(PMT(F11/12,F10*12,F9),2) -> 0 | I29: Other | L29: =L28+1 -> 7
A30: Insurance | B30: =ROUND(C30/12,2) -> 333.33 | C30: 4000 | D30: total cost per year | I30: Other | L30: =L29+1 -> 8
A31: Fire Tax | B31: =ROUND(C31/12,2) -> 0 | C31: 0 | D31: total cost per year | I31: Other | L31: =L30+1 -> 9
A32: Real Estate Taxes | B32: =ROUND(C32/12,2) -> 666.67 | C32: 8000 | D32: total cost per year | I32: Other | L32: =L31+1 -> 10
A33: Total | B33: =SUM(B20:B32) -> 4229.43 | I33: Other | L33: =L32+1 -> 11
A34: Net | B34: =(B17/12)-B33 -> -49.43 | L34: =L33+1 -> 12
L35: =L34+1 -> 13
L36: =L35+1 -> 14
L37: =L36+1 -> 15
A38: Renovation Cost | L38: =L37+1 -> 16
A39: Work Item | C39: Estimate | L39: =L38+1 -> 17
A40: Exterminator | L40: =L39+1 -> 18
A41: Carpeting | L41: =L40+1 -> 19
...

Sheet Property 2
A1: Street | B1: 50 Bracewell | D1: Mortgage Calculator | H1: Ratio Analysis
A2: City | B2: N Adams, MA | D2: Principle | F2: =B4*(B13+B12) -> 71250 | H2: Debt Coverage | J2: =IF(B4=0,"N/A",(B17/12-B33+B28)/B28) -> 2.9029709 | K2: first mtg only
A3: Buyer's Realtor Fee | B3: 0 | D3: Term (years) | F3: 20 | H3: Cap Rate | J3: =(((B17/12)-SUM(B20:B27)-SUM(B30:B32))*12)/(B12+B13) -> 0.17242547
A4: LTV | B4: 0.75 | D4: Annual Interest Rate | F4: 0.05 | H4: Cash on Cash Return (Velocity) | J4: =(12*B34)/J6 -> 0.392348 | P4: =(12*B34-(CUMPRINC(F4/12,F3*12,F2,1,12,0))) -> 12866.239
A5: Period to be Owned (yrs) | B5: 10 | D5: Closing Points | F5: 0 | H5: Debt/Equity Ratio | J5: =(F2+CUMPRINC(F4/12,F3*12,F2,1,L5*12,0))/(B13*(1+B7)^L5) -> 2.9555221 | K5: end of year | L5: =B5 -> 10 | P5: =0.03636*(B12+B13) -> 3454.2
A6: Assumed Vacancy Rate | B6: 0.05 | D6: Other Closing Costs | F6: =SUM(J20:J33) -> 3618 | H6: Cash needed at Closing | J6: =(B12+B13)-F2+F6+F5*F2-F9 -> 27368 | P6: =P4-P5 -> 9412.0393
A7: Assumed Annual Appreciation | B7: 0 | P7: =P6*B8 -> 0
A8: Assumed Annual Rent Growth | B8: 0 | D8: Second Mortgage Calculator
A9: Assumed Annual Cost Growth | B9: 0 | D9: Principle | F9: 0
D10: Term (years) | F10: 10
A11: Asking Price | D11: Annual Interest Rate | F11: 0.1
A12: Renovation Cost | B12: 80000 | D12: Closing Points | F12: 0
A13: Purchase Price/Value | B13: 15000 | D13: Other Closing Costs | F13: 0
A14: Number of Units | B14: 3 | C14: =IF(COUNT(M23:M122)=B14,IF(B15<B14*L19,"Total Rent Seems Low - Check Assumptions",""),"Enter Rent For All Units") -> Total Rent Seems Low - Check Assumptions
A15: Total Rent per Month | B15: =L21 -> 2350
A16: Annual Revenue (0% vacancy) | B16: =B15*12 -> 28200
A17: ="Annual Revenue ("&TEXT(B6,"0%")&" vacancy)" -> Annual Revenue (5% vacancy) | B17: =B16*(1-B6) -> 26790
A19: Monthly Operating Expenses | I19: Closing & Other Costs | L19: 800 | M19: = Expected Average Minimum Rent
A20: Management Company | B20: =MAX(ROUND(C20*(B17/12),2),E20) -> 223.25 | C20: 0.1 | D20: management fee | E20: 200 | F20: = Minimum monthly fee' | I20: Attorney | J20: 500
A21: Tenant Finder Fee | B21: =ROUND(B15*C21/E21,2) -> 97.92 | C21: =1/12 -> 0.083333333 | D21: one time fee | E21: 2 | F21: years tenancy assumed | I21: Inspection | J21: 500 | L21: =SUM(M23:M122) -> 2350 | M21: = Total Rental Income
A22: Water | B22: =(C22*B14/12)*(1-B6) -> 35.625 | C22: 150 | D22: cost per unit per year | H22: Tax Stamp Rate | I22: Appraisal | J22: 900 | L22: Unit # | M22: Rent/Month
A23: Sewer | B23: =(C23*B14/12)*(1-B6) -> 71.25 | C23: 300 | D23: cost per unit per year | H23: 0.0075 | I23: Tax Stamps | J23: =ROUND(H23*B13, 0) -> 113 | L23: 1 | M23: 650
A24: Electric | B24: =(C24*B14)*(1-B6) -> 0 | C24: 0 | D24: cost per unit per month | I24: Title Insurance | J24: 800 | L24: =L23+1 -> 2 | M24: 750
A25: Gas | B25: =(C25*B14)*(1-B6) -> 0 | C25: 0 | D25: cost per unit per month | I25: Title Closing | J25: 125 | L25: =L24+1 -> 3 | M25: 950
A26: Other Utilities | B26: =C26*B14 -> 30 | C26: 10 | D26: cost per unit per month | I26: Title Doc Prep | J26: 30 | L26: =L25+1 -> 4
A27: Maintenance Allowance | B27: =F28/12 -> 62.5 | C27: =F27*B13/B14 -> 250 | D27: cost per unit per year | F27: 0.05 | G27: of purchase price | I27: Recording Fees | J27: 50 | L27: =L26+1 -> 5
A28: Mortgage (monthly) | B28: =-ROUND(PMT(F4/12,F3*12,F2),2) -> 470.22 | F28: =F27*B13 -> 750 | G28: total per year | I28: Bank Fees | J28: 600 | L28: =L27+1 -> 6
A29: Second Mortgage (monthly) | B29: =-ROUND(PMT(F11/12,F10*12,F9),2) -> 0 | I29: Other | L29: =L28+1 -> 7
A30: Insurance | B30: =ROUND(C30/12,2) -> 166.67 | C30: 2000 | D30: total cost per year | I30: Other | L30: =L29+1 -> 8
A31: Fire Tax | B31: =ROUND(C31/12,2) -> 0 | C31: 0 | D31: total cost per year | I31: Other | L31: =L30+1 -> 9
A32: Real Estate Taxes | B32: =ROUND(C32/12,2) -> 180.25 | C32: 2163 | D32: total cost per year | I32: Other | L32: =L31+1 -> 10
A33: Total | B33: =SUM(B20:B32) -> 1337.685 | I33: Other | L33: =L32+1 -> 11
A34: Net | B34: =(B17/12)-B33 -> 894.815 | L34: =L33+1 -> 12
L35: =L34+1 -> 13
L36: =L35+1 -> 14
L37: =L36+1 -> 15
L38: =L37+1 -> 16
L39: =L38+1 -> 17
L40: =L39+1 -> 18
L41: =L40+1 -> 19
...

Sheet Property 3
A1: Street | D1: Mortgage Calculator | H1: Ratio Analysis
A2: City | D2: Principle | F2: =B4*(B13+B12) -> 0 | H2: Debt Coverage | J2: =IF(B4=0,"N/A",(B17/12-B33+B28)/B28) -> N/A | K2: first mtg only
A3: Buyer's Realtor Fee | B3: 0 | D3: Term (years) | F3: 20 | H3: Cap Rate | J3: =(((B17/12)-SUM(B20:B27)-SUM(B30:B32))*12)/(B12+B13) -> #DIV/0!
A4: LTV | B4: 0 | D4: Annual Interest Rate | F4: 0.045 | H4: Cash on Cash Return (Velocity) | J4: =(12*B34)/J6 -> 13.153517 | P4: =(12*B34-(CUMPRINC(F4/12,F3*12,F2,1,12,0))) -> #NUM!
A5: Period to be Owned (yrs) | B5: 10 | D5: Closing Points | F5: 0 | H5: Debt/Equity Ratio | J5: =(F2+CUMPRINC(F4/12,F3*12,F2,1,L5*12,0))/(B13*(1+B7)^L5) -> #NUM! | K5: end of year | L5: =B5 -> 10 | P5: =0.03636*(B12+B13) -> 0
A6: Assumed Vacancy Rate | B6: 0.08 | D6: Other Closing Costs | F6: =SUM(J20:J33) -> 3005 | H6: Cash needed at Closing | J6: =(B12+B13)-F2+F6+F5*F2-F9 -> 3005 | P6: =P4-P5 -> #NUM!
A7: Assumed Annual Appreciation | B7: 0.03 | P7: =P6*B8 -> #NUM!
A8: Assumed Annual Rent Growth | B8: 0.02 | D8: Second Mortgage Calculator
A9: Assumed Annual Cost Growth | B9: 0.02 | D9: Principle | F9: 0
D10: Term (years) | F10: 10
A11: Asking Price | B11: 0 | D11: Annual Interest Rate | F11: 0.1
A12: Renovation Cost | B12: 0 | D12: Closing Points | F12: 0
A13: Purchase Price/Value | B13: 0 | D13: Other Closing Costs | F13: 0
A14: Number of Units | B14: 0 | C14: =IF(COUNT(M23:M122)=B14,IF(B15<B14*L19,"Total Rent Seems Low - Check Assumptions",""),"Enter Rent For All Units") -> Enter Rent For All Units
A15: Total Rent per Month | B15: =L21 -> 5425
A16: Annual Revenue (0% vacancy) | B16: =B15*12 -> 65100
A17: ="Annual Revenue ("&TEXT(B6,"0%")&" vacancy)" -> Annual Revenue (8% vacancy) | B17: =B16*(1-B6) -> 59892
A19: Monthly Operating Expenses | I19: Closing & Other Costs | L19: 800 | M19: = Expected Average Minimum Rent
A20: Management Company | B20: =MAX(ROUND(C20*(B17/12),2),E20) -> 499.1 | C20: 0.1 | D20: management fee | E20: 200 | F20: = Minimum monthly fee' | I20: Attorney | J20: 500
A21: Tenant Finder Fee | B21: =ROUND(B15*C21/E21,2) -> 226.04 | C21: =1/12 -> 0.083333333 | D21: one time fee | E21: 2 | F21: years tenancy assumed | I21: Inspection | J21: 0 | L21: =SUM(M23:M122) -> 5425 | M21: = Total Rental Income
A22: Water | B22: =(C22*B14/12)*(1-B6) -> 0 | C22: 120 | D22: cost per unit per year | H22: Tax Stamp Rate | I22: Appraisal | J22: 900 | L22: Unit # | M22: Rent/Month
A23: Sewer | B23: =(C23*B14/12)*(1-B6) -> 0 | C23: 240 | D23: cost per unit per year | H23: 0.0075 | I23: Tax Stamps | J23: =ROUND(H23*B13, 0) -> 0 | L23: 1 | M23: 750
A24: Electric | B24: =(C24*B14)*(1-B6) -> 0 | C24: 0 | D24: cost per unit per month | I24: Title Insurance | J24: 800 | L24: =L23+1 -> 2 | M24: 650
A25: Gas | B25: =(C25*B14)*(1-B6) -> 0 | C25: 0 | D25: cost per unit per month | I25: Title Closing | J25: 125 | L25: =L24+1 -> 3 | M25: 700
A26: Other Utilities | B26: =C26*B14 -> 0 | C26: 10 | D26: cost per unit per month | I26: Title Doc Prep | J26: 30 | L26: =L25+1 -> 4 | M26: 600
A27: Maintenance Allowance | B27: =F28/12 -> 0 | C27: =F27*B13/B14 -> #DIV/0! | D27: cost per unit per year | F27: 0.015 | G27: of purchase price | I27: Recording Fees | J27: 50 | L27: =L26+1 -> 5 | M27: 700
A28: Mortgage (monthly) | B28: =-ROUND(PMT(F4/12,F3*12,F2),2) -> 0 | F28: =F27*B13 -> 0 | G28: total per year | I28: Bank Fees | J28: 600 | L28: =L27+1 -> 6 | M28: 700
A29: Second Mortgage (monthly) | B29: =-ROUND(PMT(F11/12,F10*12,F9),2) -> 0 | I29: Other | L29: =L28+1 -> 7 | M29: 675
A30: Insurance | B30: =ROUND(C30/12,2) -> 375 | C30: 4500 | D30: total cost per year | I30: Other | L30: =L29+1 -> 8 | M30: 650
A31: Fire Tax | B31: =ROUND(C31/12,2) -> 0 | C31: 0 | D31: total cost per year | I31: Other | L31: =L30+1 -> 9
A32: Real Estate Taxes | B32: =ROUND(C32/12,2) -> 597 | C32: 7164 | D32: total cost per year | I32: Other | L32: =L31+1 -> 10
A33: Total | B33: =SUM(B20:B32) -> 1697.14 | I33: Other | L33: =L32+1 -> 11
A34: Net | B34: =(B17/12)-B33 -> 3293.86 | L34: =L33+1 -> 12
L35: =L34+1 -> 13
L36: =L35+1 -> 14
L37: =L36+1 -> 15
L38: =L37+1 -> 16
L39: =L38+1 -> 17
L40: =L39+1 -> 18
L41: =L40+1 -> 19
...

Sheet Property 4
A1: Street | D1: Mortgage Calculator | H1: Ratio Analysis
A2: City | D2: Principle | F2: =B4*(B13+B12) -> 140000 | H2: Debt Coverage | J2: =IF(B4=0,"N/A",(B17/12-B33+B28)/B28) -> 1.2189317 | K2: first mtg only
A3: Buyer's Realtor Fee | B3: 0 | D3: Term (years) | F3: 20 | H3: Cap Rate | J3: =(((B17/12)-SUM(B20:B27)-SUM(B30:B32))*12)/(B12+B13) -> 0.092538857
A4: LTV | B4: 1 | D4: Annual Interest Rate | F4: 0.045 | H4: Cash on Cash Return (Velocity) | J4: =(12*B34)/J6 -> 0.5738397
A5: Period to be Owned (yrs) | B5: 5 | D5: Closing Points | F5: 0 | H5: Debt/Equity Ratio | J5: =(F2+CUMPRINC(F4/12,F3*12,F2,1,L5*12,0))/(B13*(1+B7)^L5) -> 0.71337738 | K5: end of year | L5: =B5 -> 5 | Q5: =ROUND((P7*B14*(1-B6))-(MAX(ROUND(C20*(P7*B14*(1-B6)),2),300)+ROUND(P7*B14*C21/E21,2)+(C22*B14/12)*(1-B6)+(C23*B14/12)*(1-B6)+(C24*B14)*(1-B6)+(C25*B14)*(1-B6)+C26*B14+F28/12-ROUND(PMT(F4/12,F3*12,B4*P6),2)+ROUND(C30/12,2)+ROUND(C31/12,2)+ROUND(C32/12,2)),0) -> 202 | R5: =B15/B14*0.5 -> 337.5 | S5: =R5+100 -> 437.5 | T5: =S5+100 -> 537.5 | U5: =T5+100 -> 637.5 | V5: =U5+100 -> 737.5 | W5: =V5+100 -> 837.5 | X5: =W5+100 -> 937.5 | AA5: =R5 -> 337.5 | AB5: =S5 -> 437.5 | AC5: =T5 -> 537.5 | AD5: =U5 -> 637.5 | AE5: =V5 -> 737.5 | AF5: =W5 -> 837.5 | AG5: =X5 -> 937.5
A6: Assumed Vacancy Rate | B6: 0.08 | D6: Other Closing Costs | F6: =SUM(J20:J33) -> 4055 | H6: Cash needed at Closing | J6: =(B12+B13)-F2+F6+F5*F2-F9 -> 4055 | P6: 200000 | Q6: =ROUND(0.8*B11,-3) -> 96000 | R6: -765 | S6: -414 | T6: -62 | U6: 289 | V6: 640 | W6: 983 | X6: 1298 | Z6: =Q6/1000 -> 96 | AA6: =R6 -> -765 | AB6: =S6 -> -414 | AC6: =T6 -> -62 | AD6: =U6 -> 289 | AE6: =V6 -> 640 | AF6: =W6 -> 983 | AG6: =X6 -> 1298
A7: Assumed Annual Appreciation | B7: 0.03 | P7: 800 | Q7: =Q6+10000 -> 106000 | R7: -828 | S7: -477 | T7: -126 | U7: 226 | V7: 577 | W7: 920 | X7: 1235 | Z7: =Q7/1000 -> 106 | AA7: =R7 -> -828 | AB7: =S7 -> -477 | AC7: =T7 -> -126 | AD7: =U7 -> 226 | AE7: =V7 -> 577 | AF7: =W7 -> 920 | AG7: =X7 -> 1235
A8: Assumed Annual Rent Growth | B8: 0.02 | D8: Second Mortgage Calculator | Q8: =Q7+10000 -> 116000 | R8: -892 | S8: -540 | T8: -189 | U8: 162 | V8: 514 | W8: 857 | X8: 1171 | Z8: =Q8/1000 -> 116 | AA8: =R8 -> -892 | AB8: =S8 -> -540 | AC8: =T8 -> -189 | AD8: =U8 -> 162 | AE8: =V8 -> 514 | AF8: =W8 -> 857 | AG8: =X8 -> 1171
A9: Assumed Annual Cost Growth | B9: 0.02 | D9: Principle | F9: 0 | Q9: =Q8+10000 -> 126000 | R9: -955 | S9: -604 | T9: -252 | U9: 99 | V9: 450 | W9: 794 | X9: 1108 | Z9: =Q9/1000 -> 126 | AA9: =R9 -> -955 | AB9: =S9 -> -604 | AC9: =T9 -> -252 | AD9: =U9 -> 99 | AE9: =V9 -> 450 | AF9: =W9 -> 794 | AG9: =X9 -> 1108
D10: Term (years) | F10: 10 | Q10: =Q9+10000 -> 136000 | R10: -1018 | S10: -667 | T10: -315 | U10: 36 | V10: 387 | W10: 730 | X10: 1045 | Z10: =Q10/1000 -> 136 | AA10: =R10 -> -1018 | AB10: =S10 -> -667 | AC10: =T10 -> -315 | AD10: =U10 -> 36 | AE10: =V10 -> 387 | AF10: =W10 -> 730 | AG10: =X10 -> 1045
A11: Asking Price | B11: 120000 | D11: Annual Interest Rate | F11: 0.1 | Q11: =Q10+10000 -> 146000 | R11: -1081 | S11: -730 | T11: -379 | U11: -27 | V11: 324 | W11: 667 | X11: 982 | Z11: =Q11/1000 -> 146 | AA11: =R11 -> -1081 | AB11: =S11 -> -730 | AC11: =T11 -> -379 | AD11: =U11 -> -27 | AE11: =V11 -> 324 | AF11: =W11 -> 667 | AG11: =X11 -> 982
A12: Renovation Cost | D12: Closing Points | F12: 0 | Q12: =Q11+10000 -> 156000 | R12: -1145 | S12: -793 | T12: -442 | U12: -91 | V12: 261 | W12: 604 | X12: 918 | Z12: =Q12/1000 -> 156 | AA12: =R12 -> -1145 | AB12: =S12 -> -793 | AC12: =T12 -> -442 | AD12: =U12 -> -91 | AE12: =V12 -> 261 | AF12: =W12 -> 604 | AG12: =X12 -> 918
A13: Purchase Price/Value | B13: 140000 | D13: Other Closing Costs | F13: 0 | Q13: =Q12+10000 -> 166000 | R13: -1208 | S13: -857 | T13: -505 | U13: -154 | V13: 197 | W13: 541 | X13: 855 | Z13: =Q13/1000 -> 166 | AA13: =R13 -> -1208 | AB13: =S13 -> -857 | AC13: =T13 -> -505 | AD13: =U13 -> -154 | AE13: =V13 -> 197 | AF13: =W13 -> 541 | AG13: =X13 -> 855
A14: Number of Units | B14: 4 | C14: =IF(COUNT(M23:M122)=B14,IF(B15<B14*L19,"Total Rent Seems Low - Check Assumptions",""),"Enter Rent For All Units") | Q14: =Q13+10000 -> 176000 | R14: -1271 | S14: -920 | T14: -569 | U14: -217 | V14: 134 | W14: 477 | X14: 792 | Z14: =Q14/1000 -> 176 | AA14: =R14 -> -1271 | AB14: =S14 -> -920 | AC14: =T14 -> -569 | AD14: =U14 -> -217 | AE14: =V14 -> 134 | AF14: =W14 -> 477 | AG14: =X14 -> 792
A15: Total Rent per Month | B15: =L21 -> 2700 | Q15: =Q14+10000 -> 186000 | R15: -1334 | S15: -983 | T15: -632 | U15: -280 | V15: 71 | W15: 414 | X15: 729 | Z15: =Q15/1000 -> 186 | AA15: =R15 -> -1334 | AB15: =S15 -> -983 | AC15: =T15 -> -632 | AD15: =U15 -> -280 | AE15: =V15 -> 71 | AF15: =W15 -> 414 | AG15: =X15 -> 729
A16: Annual Revenue (0% vacancy) | B16: =B15*12 -> 32400
A17: ="Annual Revenue ("&TEXT(B6,"0%")&" vacancy)" -> Annual Revenue (8% vacancy) | B17: =B16*(1-B6) -> 29808
A19: Monthly Operating Expenses | I19: Closing & Other Costs | L19: 650 | M19: = Expected Average Minimum Rent
A20: Management Company | B20: =MAX(ROUND(C20*(B17/12),2),E20) -> 248.4 | C20: 0.1 | D20: management fee | E20: 200 | F20: = Minimum monthly fee' | I20: Attorney | J20: 500
A21: Tenant Finder Fee | B21: =ROUND(B15*C21/E21,2) -> 112.5 | C21: =1/12 -> 0.083333333 | D21: one time fee | E21: 2 | F21: years tenancy assumed | I21: Inspection | J21: 0 | L21: =SUM(M23:M122) -> 2700 | M21: = Total Rental Income
A22: Water | B22: =(C22*B14/12)*(1-B6) -> 36.8 | C22: 120 | D22: cost per unit per year | H22: Tax Stamp Rate | I22: Appraisal | J22: 900 | L22: Unit # | M22: Rent/Month
A23: Sewer | B23: =(C23*B14/12)*(1-B6) -> 73.6 | C23: 240 | D23: cost per unit per year | H23: 0.0075 | I23: Tax Stamps | J23: =ROUND(H23*B13, 0) -> 1050 | L23: 1 | M23: 700
A24: Electric | B24: =(C24*B14)*(1-B6) -> 0 | C24: 0 | D24: cost per unit per month | I24: Title Insurance | J24: 800 | L24: =L23+1 -> 2 | M24: 700
A25: Gas | B25: =(C25*B14)*(1-B6) -> 0 | C25: 0 | D25: cost per unit per month | I25: Title Closing | J25: 125 | L25: =L24+1 -> 3 | M25: 650
A26: Other Utilities | B26: =C26*B14 -> 40 | C26: 10 | D26: cost per unit per month | I26: Title Doc Prep | J26: 30 | L26: =L25+1 -> 4 | M26: 650
A27: Maintenance Allowance | B27: =F28/12 -> 175 | C27: =F27*B13/B14 -> 525 | D27: cost per unit per year | F27: 0.015 | G27: of purchase price | I27: Recording Fees | J27: 50 | L27: =L26+1 -> 5
A28: Mortgage (monthly) | B28: =-ROUND(PMT(F4/12,F3*12,F2),2) -> 885.71 | F28: =F27*B13 -> 2100 | G28: total per year | I28: Bank Fees | J28: 600 | L28: =L27+1 -> 6
A29: Second Mortgage (monthly) | B29: =-ROUND(PMT(F11/12,F10*12,F9),2) -> 0 | I29: Other | L29: =L28+1 -> 7
A30: Insurance | B30: =ROUND(C30/12,2) -> 333.33 | C30: 4000 | D30: total cost per year | I30: Other | L30: =L29+1 -> 8
A31: Fire Tax | B31: =ROUND(C31/12,2) -> 0 | C31: 0 | D31: total cost per year | I31: Other | L31: =L30+1 -> 9
A32: Real Estate Taxes | B32: =ROUND(C32/12,2) -> 384.75 | C32: 4617 | D32: total cost per year | I32: Other | L32: =L31+1 -> 10
A33: Total | B33: =SUM(B20:B32) -> 2290.09 | I33: Other | L33: =L32+1 -> 11
A34: Net | B34: =(B17/12)-B33 -> 193.91 | L34: =L33+1 -> 12
L35: =L34+1 -> 13
L36: =L35+1 -> 14
L37: =L36+1 -> 15
L38: =L37+1 -> 16
L39: =L38+1 -> 17
L40: =L39+1 -> 18
L41: =L40+1 -> 19
...

Sheet Property 5
A1: Street | D1: Mortgage Calculator | H1: Ratio Analysis
A2: City | D2: Principle | F2: =B4*(B13+B12) -> 229900 | H2: Debt Coverage | J2: =IF(B4=0,"N/A",(B17/12-B33+B28)/B28) -> -0.43849607 | K2: first mtg only
A3: Buyer's Realtor Fee | B3: 0 | D3: Term (years) | F3: 20 | H3: Cap Rate | J3: =(((B17/12)-SUM(B20:B27)-SUM(B30:B32))*12)/(B12+B13) -> -0.033289691
A4: LTV | B4: 1 | D4: Annual Interest Rate | F4: 0.045 | H4: Cash on Cash Return (Velocity) | J4: =(12*B34)/J6 -> -5.3091182 | P4: =(12*B34-(CUMPRINC(F4/12,F3*12,F2,1,12,0))) -> -17850.338
A5: Period to be Owned (yrs) | B5: 0 | D5: Closing Points | F5: 0 | H5: Debt/Equity Ratio | J5: =(F2+CUMPRINC(F4/12,F3*12,F2,1,L5*12,0))/(B13*(1+B7)^L5) -> 0.45422402 | K5: end of year | L5: 10 | P5: =0.03636*(B12+B13) -> 8359.164
A6: Assumed Vacancy Rate | B6: 0.08 | D6: Other Closing Costs | F6: =SUM(J20:J33) -> 4729 | H6: Cash needed at Closing | J6: =(B12+B13)-F2+F6+F5*F2-F9 -> 4729 | P6: =P4-P5 -> -26209.502
A7: Assumed Annual Appreciation | B7: 0.03 | P7: =P6*B8 -> -524.19004
A8: Assumed Annual Rent Growth | B8: 0.02 | D8: Second Mortgage Calculator
A9: Assumed Annual Cost Growth | B9: 0.02 | D9: Principle | F9: 0
D10: Term (years) | F10: 10
A11: Asking Price | B11: 229900 | D11: Annual Interest Rate | F11: 0.1
A12: Renovation Cost | B12: 0 | D12: Closing Points | F12: 0
A13: Purchase Price/Value | B13: 229900 | D13: Other Closing Costs | F13: 0
A14: Number of Units | B14: 4 | C14: =IF(COUNT(M23:M122)=B14,IF(B15<B14*L19,"Total Rent Seems Low - Check Assumptions",""),"Enter Rent For All Units") -> Total Rent Seems Low - Check Assumptions
A15: Total Rent per Month | B15: =L21 -> 0
A16: Annual Revenue (0% vacancy) | B16: =B15*12 -> 0
A17: ="Annual Revenue ("&TEXT(B6,"0%")&" vacancy)" -> Annual Revenue (8% vacancy) | B17: =B16*(1-B6) -> 0
A19: Monthly Operating Expenses | I19: Closing & Other Costs | L19: 800 | M19: = Expected Average Minimum Rent
A20: Management Company | B20: =MAX(ROUND(C20*(B17/12),2),E20) -> 200 | C20: 0.1 | D20: management fee | E20: 200 | F20: = Minimum monthly fee' | I20: Attorney | J20: 500
A21: Tenant Finder Fee | B21: =ROUND(B15*C21/E21,2) -> 0 | C21: 0.041666 | D21: one time fee | E21: 2 | F21: years tenancy assumed | I21: Inspection | J21: 0 | L21: =SUM(M23:M122) -> 0 | M21: = Total Rental Income
A22: Water | B22: =(C22*B14/12)*(1-B6) -> 36.8 | C22: 120 | D22: cost per unit per year | H22: Tax Stamp Rate | I22: Appraisal | J22: 900 | L22: Unit # | M22: Rent/Month
A23: Sewer | B23: =(C23*B14/12)*(1-B6) -> 73.6 | C23: 240 | D23: cost per unit per year | H23: 0.0075 | I23: Tax Stamps | J23: =ROUND(H23*B13, 0) -> 1724 | L23: 1 | M23: 0
A24: Electric | B24: =(C24*B14)*(1-B6) -> 0 | C24: 0 | D24: cost per unit per month | I24: Title Insurance | J24: 800 | L24: =L23+1 -> 2 | M24: 0
A25: Gas | B25: =(C25*B14)*(1-B6) -> 0 | C25: 0 | D25: cost per unit per month | I25: Title Closing | J25: 125 | L25: =L24+1 -> 3 | M25: 0
A26: Other Utilities | B26: =C26*B14 -> 40 | C26: 10 | D26: cost per unit per month | I26: Title Doc Prep | J26: 30 | L26: =L25+1 -> 4 | M26: 0
A27: Maintenance Allowance | B27: =F28/12 -> 287.375 | C27: =F27*B13/B14 -> 862.125 | D27: cost per unit per year | F27: 0.015 | G27: of purchase price | I27: Recording Fees | J27: 50 | L27: =L26+1 -> 5
A28: Mortgage (monthly) | B28: =-ROUND(PMT(F4/12,F3*12,F2),2) -> 1454.46 | F28: =F27*B13 -> 3448.5 | G28: total per year | I28: Bank Fees | J28: 600 | L28: =L27+1 -> 6
A29: Second Mortgage (monthly) | B29: =-ROUND(PMT(F11/12,F10*12,F9),2) -> 0 | I29: Other | L29: =L28+1 -> 7
A30: Insurance | B30: =ROUND(C30/12,2) -> 0 | C30: 0 | D30: total cost per year | I30: Other | L30: =L29+1 -> 8
A31: Fire Tax | B31: =ROUND(C31/12,2) -> 0 | C31: 0 | D31: total cost per year | I31: Other | L31: =L30+1 -> 9
A32: Real Estate Taxes | B32: =ROUND(C32/12,2) -> 0 | C32: 0 | D32: total cost per year | I32: Other | L32: =L31+1 -> 10
A33: Total | B33: =SUM(B20:B32) -> 2092.235 | I33: Other | L33: =L32+1 -> 11
A34: Net | B34: =(B17/12)-B33 -> -2092.235 | L34: =L33+1 -> 12
L35: =L34+1 -> 13
L36: =L35+1 -> 14
L37: =L36+1 -> 15
L38: =L37+1 -> 16
L39: =L38+1 -> 17
L40: =L39+1 -> 18
L41: =L40+1 -> 19
...

Sheet Property 6
A1: Street | D1: Mortgage Calculator | H1: Ratio Analysis
A2: City | D2: Principle | F2: =B4*(B13+B12) -> 228750 | H2: Debt Coverage | J2: =IF(B4=0,"N/A",(B17/12-B33+B28)/B28) -> 1.4067975 | K2: first mtg only
A3: Buyer's Realtor Fee | B3: 0 | D3: Term (years) | F3: 20 | H3: Cap Rate | J3: =(((B17/12)-SUM(B20:B27)-SUM(B30:B32))*12)/(B12+B13) -> 0.080101115
A4: LTV | B4: 0.75 | D4: Annual Interest Rate | F4: 0.045 | H4: Cash on Cash Return (Velocity) | J4: =(12*B34)/J6 -> 0.086636008 | P4: =(12*B34-(CUMPRINC(F4/12,F3*12,F2,1,12,0))) -> 14284.744
A5: Period to be Owned (yrs) | B5: 5 | D5: Closing Points | F5: 0 | H5: Debt/Equity Ratio | J5: =(F2+CUMPRINC(F4/12,F3*12,F2,1,L5*12,0))/(B13*(1+B7)^L5) -> 0.53503304 | K5: end of year | L5: =B5 -> 5 | P5: =0.03636*(B12+B13) -> 11089.8
A6: Assumed Vacancy Rate | B6: 0.08 | D6: Other Closing Costs | F6: =SUM(J20:J33) -> 5293 | H6: Cash needed at Closing | J6: =(B12+B13)-F2+F6+F5*F2-F9 -> 81543 | P6: =P4-P5 -> 3194.944
A7: Assumed Annual Appreciation | B7: 0.03 | P7: =P6*B8 -> 63.898881
A8: Assumed Annual Rent Growth | B8: 0.02 | D8: Second Mortgage Calculator
A9: Assumed Annual Cost Growth | B9: 0.02 | D9: Principle | F9: 0
D10: Term (years) | F10: 10
A11: Asking Price | B11: 305000 | D11: Annual Interest Rate | F11: 0.1
A12: Renovation Cost | B12: 0 | D12: Closing Points | F12: 0
A13: Purchase Price/Value | B13: 305000 | D13: Other Closing Costs | F13: 0
A14: Number of Units | B14: 5 | C14: =IF(COUNT(M23:M122)=B14,IF(B15<B14*L19,"Total Rent Seems Low - Check Assumptions",""),"Enter Rent For All Units")
A15: Total Rent per Month | B15: =L21 -> 4050
A16: Annual Revenue (0% vacancy) | B16: =B15*12 -> 48600
A17: ="Annual Revenue ("&TEXT(B6,"0%")&" vacancy)" -> Annual Revenue (8% vacancy) | B17: =B16*(1-B6) -> 44712
A19: Monthly Operating Expenses | I19: Closing & Other Costs | L19: 750 | M19: = Expected Average Minimum Rent
A20: Management Company | B20: =MAX(ROUND(C20*(B17/12),2),E20) -> 372.6 | C20: 0.1 | D20: management fee | E20: 200 | F20: = Minimum monthly fee' | I20: Attorney | J20: 500
A21: Tenant Finder Fee | B21: =ROUND(B15*C21/E21,2) -> 168.75 | C21: =1/12 -> 0.083333333 | D21: one time fee | E21: 2 | F21: years tenancy assumed | I21: Inspection | J21: 0 | L21: =SUM(M23:M122) -> 4050 | M21: = Total Rental Income
A22: Water | B22: =(C22*B14/12)*(1-B6) -> 42.166667 | C22: 110 | D22: cost per unit per year | H22: Tax Stamp Rate | I22: Appraisal | J22: 900 | L22: Unit # | M22: Rent/Month
A23: Sewer | B23: =(C23*B14/12)*(1-B6) -> 84.333333 | C23: 220 | D23: cost per unit per year | H23: 0.0075 | I23: Tax Stamps | J23: =ROUND(H23*B13, 0) -> 2288 | L23: 1 | M23: 800
A24: Electric | B24: =(C24*B14)*(1-B6) -> 0 | C24: 0 | D24: cost per unit per month | I24: Title Insurance | J24: 800 | L24: =L23+1 -> 2 | M24: 800
A25: Gas | B25: =(C25*B14)*(1-B6) -> 0 | C25: 0 | D25: cost per unit per month | I25: Title Closing | J25: 125 | L25: =L24+1 -> 3 | M25: 700
A26: Other Utilities | B26: =C26*B14 -> 50 | C26: 10 | D26: cost per unit per month | I26: Title Doc Prep | J26: 30 | L26: =L25+1 -> 4 | M26: 450
A27: Maintenance Allowance | B27: =F28/12 -> 254.16667 | C27: =F27*B13/B14 -> 610 | D27: cost per unit per year | F27: 0.01 | G27: of purchase price | I27: Recording Fees | J27: 50 | L27: =L26+1 -> 5 | M27: 1300 | N27: add in $500/mo for garages
A28: Mortgage (monthly) | B28: =-ROUND(PMT(F4/12,F3*12,F2),2) -> 1447.19 | F28: =F27*B13 -> 3050 | G28: total per year | I28: Bank Fees | J28: 600 | L28: =L27+1 -> 6
A29: Second Mortgage (monthly) | B29: =-ROUND(PMT(F11/12,F10*12,F9),2) -> 0 | I29: Other | L29: =L28+1 -> 7
A30: Insurance | B30: =ROUND(C30/12,2) -> 250 | C30: 3000 | D30: total cost per year | I30: Other | L30: =L29+1 -> 8
A31: Fire Tax | B31: =ROUND(C31/12,2) -> 0 | C31: 0 | D31: total cost per year | I31: Other | L31: =L30+1 -> 9
A32: Real Estate Taxes | B32: =ROUND(C32/12,2) -> 468.08 | C32: 5617 | D32: total cost per year | I32: Other | L32: =L31+1 -> 10
A33: Total | B33: =SUM(B20:B32) -> 3137.2867 | I33: Other | L33: =L32+1 -> 11
A34: Net | B34: =(B17/12)-B33 -> 588.71333 | L34: =L33+1 -> 12
L35: =L34+1 -> 13
L36: =L35+1 -> 14
L37: =L36+1 -> 15
L38: =L37+1 -> 16
L39: =L38+1 -> 17
L40: =L39+1 -> 18
L41: =L40+1 -> 19
...

Sheet Property 7
A1: Street | D1: Mortgage Calculator | H1: Ratio Analysis
A2: City | D2: Principle | F2: =B4*(B13+B12) -> 0 | H2: Debt Coverage | J2: =IF(B4=0,"N/A",(B17/12-B33+B28)/B28) -> N/A | K2: first mtg only
A3: Buyer's Realtor Fee | B3: 0 | D3: Term (years) | F3: 20 | H3: Cap Rate | J3: =(((B17/12)-SUM(B20:B27)-SUM(B30:B32))*12)/(B12+B13) -> 0.04418
A4: LTV | B4: 0 | D4: Annual Interest Rate | F4: 0.045 | H4: Cash on Cash Return (Velocity) | J4: =(12*B34)/J6 -> 0.042867592 | P4: =(12*B34-(CUMPRINC(F4/12,F3*12,F2,1,12,0))) -> #NUM!
A5: Period to be Owned (yrs) | B5: 0 | D5: Closing Points | F5: 0 | H5: Debt/Equity Ratio | J5: =(F2+CUMPRINC(F4/12,F3*12,F2,1,L5*12,0))/(B13*(1+B7)^L5) -> #NUM! | K5: end of year | L5: 10 | P5: =0.03636*(B12+B13) -> 4726.8
A6: Assumed Vacancy Rate | B6: 0.05 | D6: Other Closing Costs | F6: =SUM(J20:J33) -> 3980 | H6: Cash needed at Closing | J6: =(B12+B13)-F2+F6+F5*F2-F9 -> 133980 | P6: =P4-P5 -> #NUM!
A7: Assumed Annual Appreciation | B7: 0.03 | P7: =P6*B8 -> #NUM!
A8: Assumed Annual Rent Growth | B8: 0.02 | D8: Second Mortgage Calculator
A9: Assumed Annual Cost Growth | B9: 0.02 | D9: Principle | F9: 0
D10: Term (years) | F10: 10
A11: Asking Price | B11: 130000 | D11: Annual Interest Rate | F11: 0.1
A12: Renovation Cost | B12: 0 | D12: Closing Points | F12: 0
A13: Purchase Price/Value | B13: 130000 | D13: Other Closing Costs | F13: 0
A14: Number of Units | B14: 2 | C14: =IF(COUNT(M23:M122)=B14,IF(B15<B14*L19,"Total Rent Seems Low - Check Assumptions",""),"Enter Rent For All Units") -> Total Rent Seems Low - Check Assumptions
A15: Total Rent per Month | B15: =L21 -> 1350
A16: Annual Revenue (0% vacancy) | B16: =B15*12 -> 16200
A17: ="Annual Revenue ("&TEXT(B6,"0%")&" vacancy)" -> Annual Revenue (5% vacancy) | B17: =B16*(1-B6) -> 15390
A19: Monthly Operating Expenses | I19: Closing & Other Costs | L19: 800 | M19: = Expected Average Minimum Rent
A20: Management Company | B20: =MAX(ROUND(C20*(B17/12),2),E20) -> 200 | C20: 0.1 | D20: management fee | E20: 200 | F20: = Minimum monthly fee' | I20: Attorney | J20: 500
A21: Tenant Finder Fee | B21: =ROUND(B15*C21/E21,2) -> 28.13 | C21: =1/12 -> 0.083333333 | D21: one time fee | E21: 4 | F21: years tenancy assumed | I21: Inspection | J21: 0 | L21: =SUM(M23:M122) -> 1350 | M21: = Total Rental Income
A22: Water | B22: =(C22*B14/12)*(1-B6) -> 15.833333 | C22: 100 | D22: cost per unit per year | H22: Tax Stamp Rate | I22: Appraisal | J22: 900 | L22: Unit # | M22: Rent/Month
A23: Sewer | B23: =(C23*B14/12)*(1-B6) -> 31.666667 | C23: 200 | D23: cost per unit per year | H23: 0.0075 | I23: Tax Stamps | J23: =ROUND(H23*B13, 0) -> 975 | L23: 1 | M23: 700
A24: Electric | B24: =(C24*B14)*(1-B6) -> 0 | C24: 0 | D24: cost per unit per month | I24: Title Insurance | J24: 800 | L24: =L23+1 -> 2 | M24: 650
A25: Gas | B25: =(C25*B14)*(1-B6) -> 0 | C25: 0 | D25: cost per unit per month | I25: Title Closing | J25: 125 | L25: =L24+1 -> 3
A26: Other Utilities | B26: =C26*B14 -> 0 | C26: 0 | D26: cost per unit per month | I26: Title Doc Prep | J26: 30 | L26: =L25+1 -> 4
A27: Maintenance Allowance | B27: =F28/12 -> 108.33333 | C27: =F27*B13/B14 -> 650 | D27: cost per unit per year | F27: 0.01 | G27: of purchase price | I27: Recording Fees | J27: 50 | L27: =L26+1 -> 5
A28: Mortgage (monthly) | B28: =-ROUND(PMT(F4/12,F3*12,F2),2) -> 0 | F28: =F27*B13 -> 1300 | G28: total per year | I28: Bank Fees | J28: 600 | L28: =L27+1 -> 6
A29: Second Mortgage (monthly) | B29: =-ROUND(PMT(F11/12,F10*12,F9),2) -> 0 | I29: Other | L29: =L28+1 -> 7
A30: Insurance | B30: =ROUND(C30/12,2) -> 166.67 | C30: 2000 | D30: total cost per year | I30: Other | L30: =L29+1 -> 8
A31: Fire Tax | B31: =ROUND(C31/12,2) -> 0 | C31: 0 | D31: total cost per year | I31: Other | L31: =L30+1 -> 9
A32: Real Estate Taxes | B32: =ROUND(C32/12,2) -> 253.25 | C32: 3039 | D32: total cost per year | I32: Other | L32: =L31+1 -> 10
A33: Total | B33: =SUM(B20:B32) -> 803.88333 | I33: Other | L33: =L32+1 -> 11
A34: Net | B34: =(B17/12)-B33 -> 478.61667 | L34: =L33+1 -> 12
L35: =L34+1 -> 13
L36: =L35+1 -> 14
L37: =L36+1 -> 15
L38: =L37+1 -> 16
L39: =L38+1 -> 17
L40: =L39+1 -> 18
L41: =L40+1 -> 19
...

Sheet Property 8
A1: Street | D1: Mortgage Calculator | H1: Ratio Analysis
A2: City | D2: Principle | F2: =B4*(B13+B12) -> 120000 | H2: Debt Coverage | J2: =IF(B4=0,"N/A",(B17/12-B33+B28)/B28) -> 2.4168577 | K2: first mtg only
A3: Buyer's Realtor Fee | B3: 0 | D3: Term (years) | F3: 20 | H3: Cap Rate | J3: =(((B17/12)-SUM(B20:B27)-SUM(B30:B32))*12)/(B12+B13) -> 0.1467864
A4: LTV | B4: 0.8 | D4: Annual Interest Rate | F4: 0.045 | H4: Cash on Cash Return (Velocity) | J4: =(12*B34)/J6 -> 0.37736588 | P4: =(12*B34-(CUMPRINC(F4/12,F3*12,F2,1,12,0))) -> 16695.438
A5: Period to be Owned (yrs) | B5: 5 | D5: Closing Points | F5: 0 | H5: Debt/Equity Ratio | J5: =(F2+CUMPRINC(F4/12,F3*12,F2,1,L5*12,0))/(B13*(1+B7)^L5) -> 0.61146633 | K5: end of year | L5: =B5 -> 5 | P5: =0.03636*(B12+B13) -> 5454
A6: Assumed Vacancy Rate | B6: 0.08 | D6: Other Closing Costs | F6: =SUM(J20:J33) -> 4205 | H6: Cash needed at Closing | J6: =(B12+B13)-F2+F6+F5*F2-F9 -> 34205 | P6: =P4-P5 -> 11241.438
A7: Assumed Annual Appreciation | B7: 0.03 | P7: =P6*B8 -> 224.82875
A8: Assumed Annual Rent Growth | B8: 0.02 | D8: Second Mortgage Calculator
A9: Assumed Annual Cost Growth | B9: 0.02 | D9: Principle | F9: 0
D10: Term (years) | F10: 10
A11: Asking Price | B11: 200000 | D11: Annual Interest Rate | F11: 0.1
A12: Renovation Cost | B12: 10000 | D12: Closing Points | F12: 0
A13: Purchase Price/Value | B13: 140000 | D13: Other Closing Costs | F13: 0
A14: Number of Units | B14: 6 | C14: =IF(COUNT(M23:M122)=B14,IF(B15<B14*L19,"Total Rent Seems Low - Check Assumptions",""),"Enter Rent For All Units") -> Total Rent Seems Low - Check Assumptions
A15: Total Rent per Month | B15: =L21 -> 3900
A16: Annual Revenue (0% vacancy) | B16: =B15*12 -> 46800
A17: ="Annual Revenue ("&TEXT(B6,"0%")&" vacancy)" -> Annual Revenue (8% vacancy) | B17: =B16*(1-B6) -> 43056
A19: Monthly Operating Expenses | I19: Closing & Other Costs | L19: 750 | M19: = Expected Average Minimum Rent
A20: Management Company | B20: =MAX(ROUND(C20*(B17/12),2),E20) -> 358.8 | C20: 0.1 | D20: management fee | E20: 200 | F20: = Minimum monthly fee' | I20: Attorney | J20: 500
A21: Tenant Finder Fee | B21: =ROUND(B15*C21/E21,2) -> 162.5 | C21: =1/12 -> 0.083333333 | D21: one time fee | E21: 2 | F21: years tenancy assumed | I21: Inspection | J21: 500 | L21: =SUM(M23:M122) -> 3900 | M21: = Total Rental Income
A22: Water | B22: =(C22*B14/12)*(1-B6) -> 230 | C22: 500 | D22: cost per unit per year | H22: Tax Stamp Rate | I22: Appraisal | J22: 900 | L22: Unit # | M22: Rent/Month
A23: Sewer | B23: =(C23*B14/12)*(1-B6) -> 230 | C23: 500 | D23: cost per unit per year | H23: 0.005 | I23: Tax Stamps | J23: =ROUND(H23*B13, 0) -> 700 | L23: 1 | M23: 650
A24: Electric | B24: =(C24*B14)*(1-B6) -> 55.2 | C24: 10 | D24: cost per unit per month | I24: Title Insurance | J24: 800 | L24: =L23+1 -> 2 | M24: 650
A25: Gas | B25: =(C25*B14)*(1-B6) -> 0 | C25: 0 | D25: cost per unit per month | I25: Title Closing | J25: 125 | L25: =L24+1 -> 3 | M25: 650
A26: Other Utilities | B26: =C26*B14 -> 0 | C26: 0 | D26: cost per unit per month | I26: Title Doc Prep | J26: 30 | L26: =L25+1 -> 4 | M26: 650
A27: Maintenance Allowance | B27: =F28/12 -> 175 | C27: =F27*B13/B14 -> 350 | D27: cost per unit per year | F27: 0.015 | G27: of purchase price | I27: Recording Fees | J27: 50 | L27: =L26+1 -> 5 | M27: 650
A28: Mortgage (monthly) | B28: =-ROUND(PMT(F4/12,F3*12,F2),2) -> 759.18 | F28: =F27*B13 -> 2100 | G28: total per year | I28: Bank Fees | J28: 600 | L28: =L27+1 -> 6 | M28: 650
A29: Second Mortgage (monthly) | B29: =-ROUND(PMT(F11/12,F10*12,F9),2) -> 0 | I29: Other | L29: =L28+1 -> 7
A30: Insurance | B30: =ROUND(C30/12,2) -> 250 | C30: 3000 | D30: total cost per year | I30: Other | L30: =L29+1 -> 8
A31: Fire Tax | B31: =ROUND(C31/12,2) -> 0 | C31: 0 | D31: total cost per year | I31: Other | L31: =L30+1 -> 9
A32: Real Estate Taxes | B32: =ROUND(C32/12,2) -> 291.67 | C32: 3500 | D32: total cost per year | I32: Other | L32: =L31+1 -> 10
A33: Total | B33: =SUM(B20:B32) -> 2512.35 | I33: Other | L33: =L32+1 -> 11
A34: Net | B34: =(B17/12)-B33 -> 1075.65 | L34: =L33+1 -> 12
L35: =L34+1 -> 13
L36: =L35+1 -> 14
L37: =L36+1 -> 15
L38: =L37+1 -> 16
L39: =L38+1 -> 17
L40: =L39+1 -> 18
L41: =L40+1 -> 19
...

Sheet Property 9
A1: Street | D1: Mortgage Calculator | H1: Ratio Analysis
A2: City | D2: Principle | F2: =B4*(B13+B12) -> 0 | H2: Debt Coverage | J2: =IF(B4=0,"N/A",(B17/12-B33+B28)/B28) -> #DIV/0! | K2: first mtg only
A3: Buyer's Realtor Fee | B3: 0 | D3: Term (years) | F3: 20 | H3: Cap Rate | J3: =(((B17/12)-SUM(B20:B27)-SUM(B30:B32))*12)/(B12+B13) -> #DIV/0!
A4: LTV | B4: 1 | D4: Annual Interest Rate | F4: 0.045 | H4: Cash on Cash Return (Velocity) | J4: =(12*B34)/J6 -> -1.9998669 | P4: =(12*B34-(CUMPRINC(F4/12,F3*12,F2,1,12,0))) -> #NUM!
A5: Period to be Owned (yrs) | B5: 0 | D5: Closing Points | F5: 0 | H5: Debt/Equity Ratio | J5: =(F2+CUMPRINC(F4/12,F3*12,F2,1,L5*12,0))/(B13*(1+B7)^L5) -> #NUM! | K5: end of year | L5: =B5 -> 0 | P5: =0.03636*(B12+B13) -> 0
A6: Assumed Vacancy Rate | B6: 0.08 | D6: Other Closing Costs | F6: =SUM(J20:J33) -> 3005 | H6: Cash needed at Closing | J6: =(B12+B13)-F2+F6+F5*F2-F9 -> 3005 | P6: =P4-P5 -> #NUM!
A7: Assumed Annual Appreciation | B7: 0.03 | P7: =P6*B8 -> #NUM!
A8: Assumed Annual Rent Growth | B8: 0.02 | D8: Second Mortgage Calculator
A9: Assumed Annual Cost Growth | B9: 0.02 | D9: Principle | F9: 0
D10: Term (years) | F10: 10
A11: Asking Price | B11: 0 | D11: Annual Interest Rate | F11: 0.1
A12: Renovation Cost | B12: 0 | D12: Closing Points | F12: 0
A13: Purchase Price/Value | B13: 0 | D13: Other Closing Costs | F13: 0
A14: Number of Units | B14: 8 | C14: =IF(COUNT(M23:M122)=B14,IF(B15<B14*L19,"Total Rent Seems Low - Check Assumptions",""),"Enter Rent For All Units") -> Total Rent Seems Low - Check Assumptions
A15: Total Rent per Month | B15: =L21 -> 0
A16: Annual Revenue (0% vacancy) | B16: =B15*12 -> 0
A17: ="Annual Revenue ("&TEXT(B6,"0%")&" vacancy)" -> Annual Revenue (8% vacancy) | B17: =B16*(1-B6) -> 0
A19: Monthly Operating Expenses | I19: Closing & Other Costs | L19: 800 | M19: = Expected Average Minimum Rent
A20: Management Company | B20: =MAX(ROUND(C20*(B17/12),2),E20) -> 200 | C20: 0.1 | D20: management fee | E20: 200 | F20: = Minimum monthly fee' | I20: Attorney | J20: 500
A21: Tenant Finder Fee | B21: =ROUND(B15*C21/E21,2) -> 0 | C21: =1/12 -> 0.083333333 | D21: one time fee | E21: 2 | F21: years tenancy assumed | I21: Inspection | J21: 0 | L21: =SUM(M23:M122) -> 0 | M21: = Total Rental Income
A22: Water | B22: =(C22*B14/12)*(1-B6) -> 73.6 | C22: 120 | D22: cost per unit per year | H22: Tax Stamp Rate | I22: Appraisal | J22: 900 | L22: Unit # | M22: Rent/Month
A23: Sewer | B23: =(C23*B14/12)*(1-B6) -> 147.2 | C23: 240 | D23: cost per unit per year | H23: 0.0075 | I23: Tax Stamps | J23: =ROUND(H23*B13, 0) -> 0 | L23: 1 | M23: 0
A24: Electric | B24: =(C24*B14)*(1-B6) -> 0 | C24: 0 | D24: cost per unit per month | I24: Title Insurance | J24: 800 | L24: =L23+1 -> 2 | M24: 0
A25: Gas | B25: =(C25*B14)*(1-B6) -> 0 | C25: 0 | D25: cost per unit per month | I25: Title Closing | J25: 125 | L25: =L24+1 -> 3 | M25: 0
A26: Other Utilities | B26: =C26*B14 -> 80 | C26: 10 | D26: cost per unit per month | I26: Title Doc Prep | J26: 30 | L26: =L25+1 -> 4 | M26: 0
A27: Maintenance Allowance | B27: =F28/12 -> 0 | C27: =F27*B13/B14 -> 0 | D27: cost per unit per year | F27: 0.015 | G27: of purchase price | I27: Recording Fees | J27: 50 | L27: =L26+1 -> 5 | M27: 0
A28: Mortgage (monthly) | B28: =-ROUND(PMT(F4/12,F3*12,F2),2) -> 0 | F28: =F27*B13 -> 0 | G28: total per year | I28: Bank Fees | J28: 600 | L28: =L27+1 -> 6 | M28: 0
A29: Second Mortgage (monthly) | B29: =-ROUND(PMT(F11/12,F10*12,F9),2) -> 0 | I29: Other | L29: =L28+1 -> 7 | M29: 0
A30: Insurance | B30: =ROUND(C30/12,2) -> 0 | C30: 0 | D30: total cost per year | I30: Other | L30: =L29+1 -> 8 | M30: 0
A31: Fire Tax | B31: =ROUND(C31/12,2) -> 0 | C31: 0 | D31: total cost per year | I31: Other | L31: =L30+1 -> 9
A32: Real Estate Taxes | B32: =ROUND(C32/12,2) -> 0 | C32: 0 | D32: total cost per year | I32: Other | L32: =L31+1 -> 10
A33: Total | B33: =SUM(B20:B32) -> 500.8 | I33: Other | L33: =L32+1 -> 11
A34: Net | B34: =(B17/12)-B33 -> -500.8 | L34: =L33+1 -> 12
L35: =L34+1 -> 13
L36: =L35+1 -> 14
L37: =L36+1 -> 15
L38: =L37+1 -> 16
L39: =L38+1 -> 17
L40: =L39+1 -> 18
L41: =L40+1 -> 19
...

Sheet Property 10
A1: Street | D1: Mortgage Calculator | H1: Ratio Analysis
A2: City | D2: Principle | F2: =B4*(B13+B12) -> 190000 | H2: Debt Coverage | J2: =IF(B4=0,"N/A",(B17/12-B33+B28)/B28) -> 1.1313029 | K2: first mtg only
A3: Buyer's Realtor Fee | B3: 0 | D3: Term (years) | F3: 20 | H3: Cap Rate | J3: =(((B17/12)-SUM(B20:B27)-SUM(B30:B32))*12)/(B12+B13) -> 0.085885895
A4: LTV | B4: 1 | D4: Annual Interest Rate | F4: 0.045 | H4: Cash on Cash Return (Velocity) | J4: =(12*B34)/J6 -> 0.45858596 | P4: =(12*B34-(CUMPRINC(F4/12,F3*12,F2,1,12,0))) -> 7891.0527
A5: Period to be Owned (yrs) | B5: 5 | D5: Closing Points | F5: 0 | H5: Debt/Equity Ratio | J5: =(F2+CUMPRINC(F4/12,F3*12,F2,1,L5*12,0))/(B13*(1+B7)^L5) -> 0.90361135 | K5: end of year | L5: =B5 -> 5 | P5: =0.03636*(B12+B13) -> 6908.4
A6: Assumed Vacancy Rate | B6: 0.08 | D6: Other Closing Costs | F6: =SUM(J20:J33) -> 4130 | H6: Cash needed at Closing | J6: =(B12+B13)-F2+F6+F5*F2-F9 -> 4130 | P6: =P4-P5 -> 982.65275
A7: Assumed Annual Appreciation | B7: 0.03 | P7: =P6*B8 -> 19.653055
A8: Assumed Annual Rent Growth | B8: 0.02 | D8: Second Mortgage Calculator
A9: Assumed Annual Cost Growth | B9: 0.02 | D9: Principle | F9: 0
D10: Term (years) | F10: 10
A11: Asking Price | B11: 150000 | D11: Annual Interest Rate | F11: 0.1
A12: Renovation Cost | B12: 40000 | D12: Closing Points | F12: 0
A13: Purchase Price/Value | B13: 150000 | D13: Other Closing Costs | F13: 0
A14: Number of Units | B14: 2 | C14: =IF(COUNT(M23:M122)=B14,IF(B15<B14*L19,"Total Rent Seems Low - Check Assumptions",""),"Enter Rent For All Units")
A15: Total Rent per Month | B15: =L21 -> 2800
A16: Annual Revenue (0% vacancy) | B16: =B15*12 -> 33600
A17: ="Annual Revenue ("&TEXT(B6,"0%")&" vacancy)" -> Annual Revenue (8% vacancy) | B17: =B16*(1-B6) -> 30912
A19: Monthly Operating Expenses | I19: Closing & Other Costs | L19: 800 | M19: = Expected Average Minimum Rent
A20: Management Company | B20: =MAX(ROUND(C20*(B17/12),2),E20) -> 257.6 | C20: 0.1 | D20: management fee | E20: 200 | F20: = Minimum monthly fee' | I20: Attorney | J20: 500
